Package: DMRScan Version: 1.30.0 Command: /home/biocbuild/R/R/bin/R CMD INSTALL DMRScan StartedAt: 2025-10-06 20:36:44 -0000 (Mon, 06 Oct 2025) EndedAt: 2025-10-06 20:37:05 -0000 (Mon, 06 Oct 2025) EllapsedTime: 21.2 seconds RetCode: 0 Status: OK