Package: DMRScan Version: 1.32.0 Command: /Library/Frameworks/R.framework/Resources/bin/R CMD INSTALL DMRScan StartedAt: 2025-11-10 15:11:07 -0500 (Mon, 10 Nov 2025) EndedAt: 2025-11-10 15:11:13 -0500 (Mon, 10 Nov 2025) EllapsedTime: 5.8 seconds RetCode: 0 Status: OK