Package: DMRScan Version: 1.32.0 Command: rm -rf DMRScan.buildbin-libdir && mkdir DMRScan.buildbin-libdir && /Users/biocbuild/BBS/utils/build-universal.sh DMRScan_1.32.0.tar.gz /Library/Frameworks/R.framework/Resources/bin/R DMRScan.buildbin-libdir StartedAt: 2025-11-10 23:18:19 -0500 (Mon, 10 Nov 2025) EndedAt: 2025-11-10 23:18:26 -0500 (Mon, 10 Nov 2025) EllapsedTime: 7.1 seconds RetCode: 0 Status: OK PackageFile: DMRScan_1.32.0.tgz PackageFileSize: 5.081 MiB