Package: DMRScan Version: 1.30.0 Command: /Library/Frameworks/R.framework/Resources/bin/R CMD INSTALL DMRScan StartedAt: 2025-10-13 16:33:17 -0400 (Mon, 13 Oct 2025) EndedAt: 2025-10-13 16:33:36 -0400 (Mon, 13 Oct 2025) EllapsedTime: 18.8 seconds RetCode: 0 Status: OK