Package: DMRScan Version: 1.30.0 Command: /Library/Frameworks/R.framework/Resources/bin/R CMD build --keep-empty-dirs --no-resave-data DMRScan StartedAt: 2025-10-13 23:27:32 -0400 (Mon, 13 Oct 2025) EndedAt: 2025-10-13 23:28:57 -0400 (Mon, 13 Oct 2025) EllapsedTime: 85.6 seconds RetCode: 1 Status: ERROR PackageFile: None PackageFileSize: NA