Package: DMCHMM Version: 1.30.1 Command: /home/biocbuild/bbs-3.21-bioc/R/bin/R CMD INSTALL DMCHMM StartedAt: 2025-10-15 15:26:51 -0400 (Wed, 15 Oct 2025) EndedAt: 2025-10-15 15:27:24 -0400 (Wed, 15 Oct 2025) EllapsedTime: 33.0 seconds RetCode: 0 Status: OK