Package: DMCHMM Version: 1.30.1 Command: /home/biocbuild/bbs-3.21-bioc/R/bin/R CMD build --keep-empty-dirs --no-resave-data DMCHMM StartedAt: 2025-10-15 17:15:23 -0400 (Wed, 15 Oct 2025) EndedAt: 2025-10-15 17:16:39 -0400 (Wed, 15 Oct 2025) EllapsedTime: 76.1 seconds RetCode: 0 Status: OK PackageFile: DMCHMM_1.30.1.tar.gz PackageFileSize: 743.8 KiB