Package: DMCHMM Version: 1.30.1 Command: /home/biocbuild/R/R/bin/R CMD build --keep-empty-dirs --no-resave-data DMCHMM StartedAt: 2025-09-30 00:32:48 -0000 (Tue, 30 Sep 2025) EndedAt: 2025-09-30 00:34:34 -0000 (Tue, 30 Sep 2025) EllapsedTime: 106.0 seconds RetCode: 0 Status: OK PackageFile: DMCHMM_1.30.1.tar.gz PackageFileSize: 744.4 KiB