Package: DMCFB Version: 1.24.0 Command: /home/biocbuild/bbs-3.22-bioc/R/bin/R CMD build --keep-empty-dirs --no-resave-data --md5 DMCFB StartedAt: 2025-11-11 17:25:47 -0500 (Tue, 11 Nov 2025) EndedAt: 2025-11-11 17:27:02 -0500 (Tue, 11 Nov 2025) EllapsedTime: 75.1 seconds RetCode: 0 Status: OK PackageFile: DMCFB_1.24.0.tar.gz PackageFileSize: 1.053 MiB