Package: DMCFB Version: 1.24.0 Command: /Library/Frameworks/R.framework/Resources/bin/R CMD INSTALL DMCFB StartedAt: 2025-11-10 15:16:22 -0500 (Mon, 10 Nov 2025) EndedAt: 2025-11-10 15:16:37 -0500 (Mon, 10 Nov 2025) EllapsedTime: 15.0 seconds RetCode: 0 Status: OK