Package: DMCFB Version: 1.24.0 Command: /Library/Frameworks/R.framework/Resources/bin/R CMD build --keep-empty-dirs --no-resave-data DMCFB StartedAt: 2025-11-10 16:13:51 -0500 (Mon, 10 Nov 2025) EndedAt: 2025-11-10 16:14:31 -0500 (Mon, 10 Nov 2025) EllapsedTime: 39.4 seconds RetCode: 0 Status: OK PackageFile: DMCFB_1.24.0.tar.gz PackageFileSize: 1.067 MiB