Package: DMCFB Version: 1.24.0 Command: rm -rf DMCFB.buildbin-libdir && mkdir DMCFB.buildbin-libdir && /Users/biocbuild/BBS/utils/build-universal.sh DMCFB_1.24.0.tar.gz /Library/Frameworks/R.framework/Resources/bin/R DMCFB.buildbin-libdir StartedAt: 2025-11-10 23:18:14 -0500 (Mon, 10 Nov 2025) EndedAt: 2025-11-10 23:18:30 -0500 (Mon, 10 Nov 2025) EllapsedTime: 16.3 seconds RetCode: 0 Status: OK PackageFile: DMCFB_1.24.0.tgz PackageFileSize: 1.21 MiB