Package: DIAlignR Version: 2.16.0 Command: /home/biocbuild/bbs-3.21-bioc/R/bin/R CMD INSTALL DIAlignR StartedAt: 2025-10-12 15:22:09 -0400 (Sun, 12 Oct 2025) EndedAt: 2025-10-12 15:23:09 -0400 (Sun, 12 Oct 2025) EllapsedTime: 60.1 seconds RetCode: 0 Status: OK