Package: DIAlignR Version: 2.16.0 Command: /home/biocbuild/bbs-3.21-bioc/R/bin/R CMD build --keep-empty-dirs --no-resave-data DIAlignR StartedAt: 2025-10-12 17:13:20 -0400 (Sun, 12 Oct 2025) EndedAt: 2025-10-12 17:14:43 -0400 (Sun, 12 Oct 2025) EllapsedTime: 83.1 seconds RetCode: 0 Status: OK PackageFile: DIAlignR_2.16.0.tar.gz PackageFileSize: 4.257 MiB