Package: DIAlignR Version: 2.16.0 Command: rm -rf DIAlignR.buildbin-libdir && mkdir DIAlignR.buildbin-libdir && /Users/biocbuild/BBS/utils/build-universal.sh DIAlignR_2.16.0.tar.gz /Library/Frameworks/R.framework/Resources/bin/R DIAlignR.buildbin-libdir StartedAt: 2025-04-22 00:42:33 -0400 (Tue, 22 Apr 2025) EndedAt: 2025-04-22 00:43:49 -0400 (Tue, 22 Apr 2025) EllapsedTime: 76.5 seconds RetCode: 0 Status: OK PackageFile: DIAlignR_2.16.0.tgz PackageFileSize: 4.817 MiB