Package: DFplyr Version: 1.4.0 Command: /home/biocbuild/bbs-3.22-bioc/R/bin/R CMD INSTALL DFplyr StartedAt: 2025-11-11 15:16:26 -0500 (Tue, 11 Nov 2025) EndedAt: 2025-11-11 15:16:33 -0500 (Tue, 11 Nov 2025) EllapsedTime: 6.9 seconds RetCode: 0 Status: OK