Package: DFplyr Version: 1.2.0 Command: /home/biocbuild/bbs-3.21-bioc/R/bin/R CMD INSTALL DFplyr StartedAt: 2025-10-12 15:11:56 -0400 (Sun, 12 Oct 2025) EndedAt: 2025-10-12 15:12:03 -0400 (Sun, 12 Oct 2025) EllapsedTime: 6.3 seconds RetCode: 0 Status: OK