Package: DFplyr Version: 1.2.0 Command: /Library/Frameworks/R.framework/Resources/bin/R CMD INSTALL DFplyr StartedAt: 2025-10-09 15:32:56 -0400 (Thu, 09 Oct 2025) EndedAt: 2025-10-09 15:33:04 -0400 (Thu, 09 Oct 2025) EllapsedTime: 7.8 seconds RetCode: 0 Status: OK