Package: DFplyr Version: 1.2.0 Command: rm -rf DFplyr.buildbin-libdir && mkdir DFplyr.buildbin-libdir && /Users/biocbuild/BBS/utils/build-universal.sh DFplyr_1.2.0.tar.gz /Library/Frameworks/R.framework/Resources/bin/R DFplyr.buildbin-libdir StartedAt: 2025-10-11 19:53:30 -0400 (Sat, 11 Oct 2025) EndedAt: 2025-10-11 19:53:40 -0400 (Sat, 11 Oct 2025) EllapsedTime: 10.3 seconds RetCode: 0 Status: OK PackageFile: DFplyr_1.2.0.tgz PackageFileSize: 550 KiB