Package: DFP Version: 1.68.0 Command: /home/biocbuild/bbs-3.22-bioc/R/bin/R CMD check --install=check:DFP.install-out.txt --library=/home/biocbuild/bbs-3.22-bioc/R/site-library --timings DFP_1.68.0.tar.gz StartedAt: 2025-11-20 23:47:06 -0500 (Thu, 20 Nov 2025) EndedAt: 2025-11-20 23:47:39 -0500 (Thu, 20 Nov 2025) EllapsedTime: 33.0 seconds RetCode: 0 Status: OK CheckDir: DFP.Rcheck Warnings: 0