Package: DFP Version: 1.66.0 Command: /home/biocbuild/R/R/bin/R CMD INSTALL DFP StartedAt: 2025-10-13 20:24:03 -0000 (Mon, 13 Oct 2025) EndedAt: 2025-10-13 20:24:08 -0000 (Mon, 13 Oct 2025) EllapsedTime: 5.3 seconds RetCode: 0 Status: OK