Package: DFP Version: 1.66.0 Command: /home/biocbuild/R/R/bin/R CMD build --keep-empty-dirs --no-resave-data DFP StartedAt: 2025-10-14 00:20:56 -0000 (Tue, 14 Oct 2025) EndedAt: 2025-10-14 00:21:08 -0000 (Tue, 14 Oct 2025) EllapsedTime: 12.0 seconds RetCode: 0 Status: OK PackageFile: DFP_1.66.0.tar.gz PackageFileSize: 487.8 KiB