Package: DFP Version: 1.66.0 Command: /Library/Frameworks/R.framework/Resources/bin/R CMD build --keep-empty-dirs --no-resave-data DFP StartedAt: 2025-04-21 16:10:32 -0400 (Mon, 21 Apr 2025) EndedAt: 2025-04-21 16:10:38 -0400 (Mon, 21 Apr 2025) EllapsedTime: 6.1 seconds RetCode: 0 Status: OK PackageFile: DFP_1.66.0.tar.gz PackageFileSize: 496.5 KiB