Package: DExMA Version: 1.18.0 Command: /home/biocbuild/bbs-3.22-bioc/R/bin/R CMD check --install=check:DExMA.install-out.txt --library=/home/biocbuild/bbs-3.22-bioc/R/site-library --timings DExMA_1.18.0.tar.gz StartedAt: 2025-11-16 23:09:22 -0500 (Sun, 16 Nov 2025) EndedAt: 2025-11-16 23:13:34 -0500 (Sun, 16 Nov 2025) EllapsedTime: 252.2 seconds RetCode: 0 Status: OK CheckDir: DExMA.Rcheck Warnings: 0