Package: DExMA Version: 1.18.0 Command: /Library/Frameworks/R.framework/Resources/bin/R CMD INSTALL DExMA StartedAt: 2025-11-03 15:37:44 -0500 (Mon, 03 Nov 2025) EndedAt: 2025-11-03 15:38:29 -0500 (Mon, 03 Nov 2025) EllapsedTime: 44.8 seconds RetCode: 0 Status: OK