Package: DExMA Version: 1.18.0 Command: /Library/Frameworks/R.framework/Resources/bin/R CMD build --keep-empty-dirs --no-resave-data DExMA StartedAt: 2025-11-03 16:47:38 -0500 (Mon, 03 Nov 2025) EndedAt: 2025-11-03 16:48:45 -0500 (Mon, 03 Nov 2025) EllapsedTime: 67.4 seconds RetCode: 0 Status: OK PackageFile: DExMA_1.18.0.tar.gz PackageFileSize: 314.7 KiB