Package: DExMA Version: 1.16.0 Command: /home/biocbuild/R/R/bin/R CMD INSTALL DExMA StartedAt: 2025-10-13 20:48:53 -0000 (Mon, 13 Oct 2025) EndedAt: 2025-10-13 20:49:41 -0000 (Mon, 13 Oct 2025) EllapsedTime: 48.0 seconds RetCode: 0 Status: OK