Package: DExMA Version: 1.16.0 Command: /home/biocbuild/R/R/bin/R CMD build --keep-empty-dirs --no-resave-data DExMA StartedAt: 2025-10-14 00:19:52 -0000 (Tue, 14 Oct 2025) EndedAt: 2025-10-14 00:21:08 -0000 (Tue, 14 Oct 2025) EllapsedTime: 76.0 seconds RetCode: 0 Status: OK PackageFile: DExMA_1.16.0.tar.gz PackageFileSize: 305.2 KiB