Package: DEsubs Version: 1.36.0 Command: /home/biocbuild/bbs-3.22-bioc/R/bin/R CMD INSTALL DEsubs StartedAt: 2025-11-03 15:22:26 -0500 (Mon, 03 Nov 2025) EndedAt: 2025-11-03 15:22:55 -0500 (Mon, 03 Nov 2025) EllapsedTime: 28.8 seconds RetCode: 0 Status: OK