Package: DEsubs Version: 1.36.0 Command: /home/biocbuild/bbs-3.22-bioc/R/bin/R CMD build --keep-empty-dirs --no-resave-data --md5 DEsubs StartedAt: 2025-11-03 17:20:27 -0500 (Mon, 03 Nov 2025) EndedAt: 2025-11-03 17:21:30 -0500 (Mon, 03 Nov 2025) EllapsedTime: 63.0 seconds RetCode: 0 Status: OK PackageFile: DEsubs_1.36.0.tar.gz PackageFileSize: 3.974 MiB