Package: DEsingle Version: 1.30.0 Command: /home/biocbuild/bbs-3.22-bioc/R/bin/R CMD INSTALL DEsingle StartedAt: 2025-11-03 15:07:01 -0500 (Mon, 03 Nov 2025) EndedAt: 2025-11-03 15:07:37 -0500 (Mon, 03 Nov 2025) EllapsedTime: 35.4 seconds RetCode: 0 Status: OK