Package: DEsingle Version: 1.30.0 Command: /home/biocbuild/bbs-3.22-bioc/R/bin/R CMD build --keep-empty-dirs --no-resave-data --md5 DEsingle StartedAt: 2025-11-03 17:19:56 -0500 (Mon, 03 Nov 2025) EndedAt: 2025-11-03 17:20:08 -0500 (Mon, 03 Nov 2025) EllapsedTime: 12.0 seconds RetCode: 0 Status: OK PackageFile: DEsingle_1.30.0.tar.gz PackageFileSize: 380.6 KiB