Package: DEqMS Version: 1.28.0 Command: /home/biocbuild/bbs-3.22-bioc/R/bin/R CMD INSTALL DEqMS StartedAt: 2025-10-31 15:16:56 -0400 (Fri, 31 Oct 2025) EndedAt: 2025-10-31 15:17:05 -0400 (Fri, 31 Oct 2025) EllapsedTime: 8.1 seconds RetCode: 0 Status: OK