Package: DEqMS Version: 1.28.0 Command: /home/biocbuild/bbs-3.22-bioc/R/bin/R CMD build --keep-empty-dirs --no-resave-data --md5 DEqMS StartedAt: 2025-10-31 17:27:15 -0400 (Fri, 31 Oct 2025) EndedAt: 2025-10-31 17:28:23 -0400 (Fri, 31 Oct 2025) EllapsedTime: 68.1 seconds RetCode: 0 Status: OK PackageFile: DEqMS_1.28.0.tar.gz PackageFileSize: 2.408 MiB