Package: DEXSeq Version: 1.56.0 Command: /home/biocbuild/R/R/bin/R CMD INSTALL DEXSeq StartedAt: 2025-11-13 21:36:48 -0000 (Thu, 13 Nov 2025) EndedAt: 2025-11-13 21:37:37 -0000 (Thu, 13 Nov 2025) EllapsedTime: 49.1 seconds RetCode: 0 Status: OK