Package: DEXSeq Version: 1.56.0 Command: /home/biocbuild/R/R/bin/R CMD build --keep-empty-dirs --no-resave-data DEXSeq StartedAt: 2025-11-14 01:16:21 -0000 (Fri, 14 Nov 2025) EndedAt: 2025-11-14 01:18:56 -0000 (Fri, 14 Nov 2025) EllapsedTime: 155.1 seconds RetCode: 0 Status: OK PackageFile: DEXSeq_1.56.0.tar.gz PackageFileSize: 897.2 KiB