Package: DEXSeq Version: 1.56.0 Command: /home/biocbuild/bbs-3.22-bioc/R/bin/R CMD check --install=check:DEXSeq.install-out.txt --library=/home/biocbuild/bbs-3.22-bioc/R/site-library --timings DEXSeq_1.56.0.tar.gz StartedAt: 2025-11-11 23:06:33 -0500 (Tue, 11 Nov 2025) EndedAt: 2025-11-11 23:12:55 -0500 (Tue, 11 Nov 2025) EllapsedTime: 382.3 seconds RetCode: 0 Status: OK CheckDir: DEXSeq.Rcheck Warnings: 0