Package: DEXSeq Version: 1.54.1 Command: /home/biocbuild/bbs-3.21-bioc/R/bin/R CMD INSTALL DEXSeq StartedAt: 2025-10-08 15:28:03 -0400 (Wed, 08 Oct 2025) EndedAt: 2025-10-08 15:28:39 -0400 (Wed, 08 Oct 2025) EllapsedTime: 36.4 seconds RetCode: 0 Status: OK