Package: DEXSeq Version: 1.54.1 Command: /home/biocbuild/bbs-3.21-bioc/R/bin/R CMD build --keep-empty-dirs --no-resave-data DEXSeq StartedAt: 2025-10-08 17:12:50 -0400 (Wed, 08 Oct 2025) EndedAt: 2025-10-08 17:14:40 -0400 (Wed, 08 Oct 2025) EllapsedTime: 110.1 seconds RetCode: 0 Status: OK PackageFile: DEXSeq_1.54.1.tar.gz PackageFileSize: 1.643 MiB