Package: DEXSeq Version: 1.54.0 Command: rm -rf DEXSeq.buildbin-libdir && mkdir DEXSeq.buildbin-libdir && /Users/biocbuild/BBS/utils/build-universal.sh DEXSeq_1.54.0.tar.gz /Library/Frameworks/R.framework/Resources/bin/R DEXSeq.buildbin-libdir StartedAt: 2025-04-22 00:42:29 -0400 (Tue, 22 Apr 2025) EndedAt: 2025-04-22 00:43:20 -0400 (Tue, 22 Apr 2025) EllapsedTime: 50.9 seconds RetCode: 0 Status: OK PackageFile: DEXSeq_1.54.0.tgz PackageFileSize: 2.207 MiB