Package: DEXSeq Version: 1.54.1 Command: /Library/Frameworks/R.framework/Resources/bin/R CMD INSTALL DEXSeq StartedAt: 2025-10-09 16:21:25 -0400 (Thu, 09 Oct 2025) EndedAt: 2025-10-09 16:22:09 -0400 (Thu, 09 Oct 2025) EllapsedTime: 44.3 seconds RetCode: 0 Status: OK