Package: DEXSeq Version: 1.54.1 Command: /Library/Frameworks/R.framework/Resources/bin/R CMD build --keep-empty-dirs --no-resave-data DEXSeq StartedAt: 2025-10-09 23:25:46 -0400 (Thu, 09 Oct 2025) EndedAt: 2025-10-09 23:28:00 -0400 (Thu, 09 Oct 2025) EllapsedTime: 134.1 seconds RetCode: 0 Status: OK PackageFile: DEXSeq_1.54.1.tar.gz PackageFileSize: 1.789 MiB