Package: DEXSeq Version: 1.54.1 Command: rm -rf DEXSeq.buildbin-libdir && mkdir DEXSeq.buildbin-libdir && /Users/biocbuild/BBS/utils/build-universal.sh DEXSeq_1.54.1.tar.gz /Library/Frameworks/R.framework/Resources/bin/R DEXSeq.buildbin-libdir StartedAt: 2025-10-11 19:53:19 -0400 (Sat, 11 Oct 2025) EndedAt: 2025-10-11 19:54:10 -0400 (Sat, 11 Oct 2025) EllapsedTime: 51.2 seconds RetCode: 0 Status: OK PackageFile: DEXSeq_1.54.1.tgz PackageFileSize: 2.218 MiB