Package: DEWSeq Version: 1.24.0 Command: /home/biocbuild/R/R/bin/R CMD INSTALL DEWSeq StartedAt: 2025-11-13 21:27:17 -0000 (Thu, 13 Nov 2025) EndedAt: 2025-11-13 21:27:51 -0000 (Thu, 13 Nov 2025) EllapsedTime: 34.3 seconds RetCode: 0 Status: OK