Package: DEWSeq Version: 1.24.0 Command: /home/biocbuild/R/R/bin/R CMD build --keep-empty-dirs --no-resave-data DEWSeq StartedAt: 2025-11-14 01:15:32 -0000 (Fri, 14 Nov 2025) EndedAt: 2025-11-14 01:18:24 -0000 (Fri, 14 Nov 2025) EllapsedTime: 172.1 seconds RetCode: 0 Status: OK PackageFile: DEWSeq_1.24.0.tar.gz PackageFileSize: 3.157 MiB