Package: DEWSeq Version: 1.24.0 Command: /home/biocbuild/bbs-3.22-bioc/R/bin/R CMD INSTALL DEWSeq StartedAt: 2025-11-11 15:25:42 -0500 (Tue, 11 Nov 2025) EndedAt: 2025-11-11 15:26:09 -0500 (Tue, 11 Nov 2025) EllapsedTime: 26.2 seconds RetCode: 0 Status: OK