Package: DEWSeq Version: 1.24.0 Command: /home/biocbuild/bbs-3.22-bioc/R/bin/R CMD build --keep-empty-dirs --no-resave-data --md5 DEWSeq StartedAt: 2025-11-11 17:22:24 -0500 (Tue, 11 Nov 2025) EndedAt: 2025-11-11 17:24:15 -0500 (Tue, 11 Nov 2025) EllapsedTime: 111.1 seconds RetCode: 0 Status: OK PackageFile: DEWSeq_1.24.0.tar.gz PackageFileSize: 3.348 MiB