Package: DEWSeq Version: 1.22.0 Command: /home/biocbuild/bbs-3.21-bioc/R/bin/R CMD INSTALL DEWSeq StartedAt: 2025-10-08 15:20:57 -0400 (Wed, 08 Oct 2025) EndedAt: 2025-10-08 15:21:22 -0400 (Wed, 08 Oct 2025) EllapsedTime: 24.9 seconds RetCode: 0 Status: OK