Package: DEWSeq Version: 1.22.0 Command: /Library/Frameworks/R.framework/Resources/bin/R CMD INSTALL DEWSeq StartedAt: 2025-10-13 15:39:29 -0400 (Mon, 13 Oct 2025) EndedAt: 2025-10-13 15:40:25 -0400 (Mon, 13 Oct 2025) EllapsedTime: 56.4 seconds RetCode: 0 Status: OK