Package: DEWSeq Version: 1.22.0 Command: rm -rf DEWSeq.buildbin-libdir && mkdir DEWSeq.buildbin-libdir && /Users/biocbuild/BBS/utils/build-universal.sh DEWSeq_1.22.0.tar.gz /Library/Frameworks/R.framework/Resources/bin/R DEWSeq.buildbin-libdir StartedAt: 2025-10-14 13:15:46 -0400 (Tue, 14 Oct 2025) EndedAt: 2025-10-14 13:17:34 -0400 (Tue, 14 Oct 2025) EllapsedTime: 108.4 seconds RetCode: 0 Status: OK PackageFile: DEWSeq_1.22.0.tgz PackageFileSize: 2.94 MiB